BEGIN:VCALENDAR
VERSION:2.0
PRODID:-//Epiphany Center OCD &amp; PTSD - ECPv6.15.20//NONSGML v1.0//EN
CALSCALE:GREGORIAN
METHOD:PUBLISH
X-WR-CALNAME:Epiphany Center OCD &amp; PTSD
X-ORIGINAL-URL:https://ocdandptsdtherapy.com
X-WR-CALDESC:Events for Epiphany Center OCD &amp; PTSD
REFRESH-INTERVAL;VALUE=DURATION:PT1H
X-Robots-Tag:noindex
X-PUBLISHED-TTL:PT1H
BEGIN:VTIMEZONE
TZID:UTC
BEGIN:STANDARD
TZOFFSETFROM:+0000
TZOFFSETTO:+0000
TZNAME:UTC
DTSTART:20230101T000000
END:STANDARD
END:VTIMEZONE
BEGIN:VEVENT
DTSTART;TZID=UTC:20241220T123000
DTEND;TZID=UTC:20241220T140000
DTSTAMP:20260422T102151
CREATED:20241028T152633Z
LAST-MODIFIED:20241213T184035Z
UID:1113-1734697800-1734703200@ocdandptsdtherapy.com
SUMMARY:**Cancelled** December 2024 OCD and Anxiety Disorders Consultation Lunch and Learn for Clinicians
DESCRIPTION:Virtual or bring your own lunch! \n  \n \n 
URL:https://ocdandptsdtherapy.com/event-display/december-2024-ocd-and-anxiety-disorders-consultation-lunch-and-learn-for-clinicians/
LOCATION:Epiphany Center For OCD & PTSD\, 8955 E Pinnacle Peak Rd Suite 102\, Scottsdale\, AZ\, 85286\, United States
CATEGORIES:OCD
END:VEVENT
BEGIN:VEVENT
DTSTART;TZID=UTC:20241122T123000
DTEND;TZID=UTC:20241122T140000
DTSTAMP:20260422T102151
CREATED:20241028T152222Z
LAST-MODIFIED:20241028T215740Z
UID:1109-1732278600-1732284000@ocdandptsdtherapy.com
SUMMARY:November 2024 - OCD and Anxiety Disorders Consultation Lunch and Learn for Clinicians
DESCRIPTION:Virtual or bring your own lunch! \n \n  \n\n\n\n\n	Notice: JavaScript is required for this content.
URL:https://ocdandptsdtherapy.com/event-display/november-2024-ocd-and-anxiety-disorders-consultation-lunch-and-learn-for-clinicians/
LOCATION:Epiphany Center For OCD & PTSD\, 8955 E Pinnacle Peak Rd Suite 102\, Scottsdale\, AZ\, 85286\, United States
CATEGORIES:OCD
END:VEVENT
END:VCALENDAR